Package: DEScan2 Version: 1.20.1 Command: rm -rf DEScan2.buildbin-libdir && mkdir DEScan2.buildbin-libdir && F:\biocbuild\bbs-3.17-bioc\R\bin\R.exe CMD INSTALL --build --library=DEScan2.buildbin-libdir DEScan2_1.20.1.tar.gz StartedAt: 2023-10-16 08:41:51 -0400 (Mon, 16 Oct 2023) EndedAt: 2023-10-16 08:43:12 -0400 (Mon, 16 Oct 2023) EllapsedTime: 80.9 seconds RetCode: 0 Status: OK PackageFile: DEScan2_1.20.1.zip PackageFileSize: 2.847 MiB