Package: DEScan2 Version: 1.20.1 Command: /home/biocbuild/bbs-3.17-bioc/R/bin/R CMD INSTALL DEScan2 StartedAt: 2023-10-15 15:39:41 -0400 (Sun, 15 Oct 2023) EndedAt: 2023-10-15 15:40:37 -0400 (Sun, 15 Oct 2023) EllapsedTime: 56.2 seconds RetCode: 0 Status: OK