Package: DEScan2 Version: 1.20.1 Command: /home/biocbuild/bbs-3.17-bioc/R/bin/R CMD check --install=check:DEScan2.install-out.txt --library=/home/biocbuild/bbs-3.17-bioc/R/site-library --timings DEScan2_1.20.1.tar.gz StartedAt: 2023-10-15 20:46:22 -0400 (Sun, 15 Oct 2023) EndedAt: 2023-10-15 20:53:36 -0400 (Sun, 15 Oct 2023) EllapsedTime: 434.3 seconds RetCode: 0 Status: WARNINGS CheckDir: DEScan2.Rcheck Warnings: 2