Package: DEScan2 Version: 1.20.1 Command: /home/biocbuild/bbs-3.17-bioc/R/bin/R CMD build --keep-empty-dirs --no-resave-data DEScan2 StartedAt: 2023-10-15 16:34:57 -0400 (Sun, 15 Oct 2023) EndedAt: 2023-10-15 16:36:27 -0400 (Sun, 15 Oct 2023) EllapsedTime: 90.1 seconds RetCode: 0 Status: OK PackageFile: DEScan2_1.20.1.tar.gz PackageFileSize: 2.459 MiB