Package: DEScan2 Version: 1.20.1 Command: /Library/Frameworks/R.framework/Resources/bin/R CMD INSTALL DEScan2 StartedAt: 2023-10-15 16:12:25 -0400 (Sun, 15 Oct 2023) EndedAt: 2023-10-15 16:15:21 -0400 (Sun, 15 Oct 2023) EllapsedTime: 175.9 seconds RetCode: 0 Status: OK