Package: DEScan2 Version: 1.20.1 Command: /Library/Frameworks/R.framework/Resources/bin/R CMD check --install=check:DEScan2.install-out.txt --library=/Library/Frameworks/R.framework/Resources/library --no-vignettes --timings DEScan2_1.20.1.tar.gz StartedAt: 2023-10-16 00:51:35 -0400 (Mon, 16 Oct 2023) EndedAt: 2023-10-16 01:08:47 -0400 (Mon, 16 Oct 2023) EllapsedTime: 1031.7 seconds RetCode: 0 Status: WARNINGS CheckDir: DEScan2.Rcheck Warnings: 2