Package: DEScan2 Version: 1.20.1 Command: /Library/Frameworks/R.framework/Resources/bin/R CMD build --keep-empty-dirs --no-resave-data DEScan2 StartedAt: 2023-10-15 17:54:36 -0400 (Sun, 15 Oct 2023) EndedAt: 2023-10-15 17:58:31 -0400 (Sun, 15 Oct 2023) EllapsedTime: 234.2 seconds RetCode: 0 Status: OK PackageFile: DEScan2_1.20.1.tar.gz PackageFileSize: 2.469 MiB