Package: DEScan2 Version: 1.20.1 Command: rm -rf DEScan2.buildbin-libdir && mkdir DEScan2.buildbin-libdir && /Users/biocbuild/BBS/utils/build-universal.sh DEScan2_1.20.1.tar.gz /Library/Frameworks/R.framework/Resources/bin/R DEScan2.buildbin-libdir StartedAt: 2023-10-16 09:16:57 -0400 (Mon, 16 Oct 2023) EndedAt: 2023-10-16 09:19:59 -0400 (Mon, 16 Oct 2023) EllapsedTime: 182.3 seconds RetCode: 0 Status: OK PackageFile: DEScan2_1.20.1.tgz PackageFileSize: 2.591 MiB