Package: DEP Version: 1.22.0 Command: /home/biocbuild/bbs-3.17-bioc/R/bin/R CMD INSTALL DEP StartedAt: 2023-10-15 15:26:30 -0400 (Sun, 15 Oct 2023) EndedAt: 2023-10-15 15:27:03 -0400 (Sun, 15 Oct 2023) EllapsedTime: 33.0 seconds RetCode: 0 Status: OK