Package: DEP Version: 1.22.0 Command: /home/biocbuild/bbs-3.17-bioc/R/bin/R CMD build --keep-empty-dirs --no-resave-data DEP StartedAt: 2023-10-15 16:33:53 -0400 (Sun, 15 Oct 2023) EndedAt: 2023-10-15 16:35:17 -0400 (Sun, 15 Oct 2023) EllapsedTime: 84.1 seconds RetCode: 0 Status: OK PackageFile: DEP_1.22.0.tar.gz PackageFileSize: 2.999 MiB