Package: DELocal Version: 1.0.0 Command: chmod a+r DELocal -R && F:\biocbuild\bbs-3.17-bioc\R\bin\R.exe CMD build --keep-empty-dirs --no-resave-data DELocal StartedAt: 2023-10-15 18:40:36 -0400 (Sun, 15 Oct 2023) EndedAt: 2023-10-15 18:41:50 -0400 (Sun, 15 Oct 2023) EllapsedTime: 74.7 seconds RetCode: 0 Status: OK PackageFile: DELocal_1.0.0.tar.gz PackageFileSize: 2.299 MiB