Package: DELocal Version: 1.0.0 Command: /home/biocbuild/bbs-3.17-bioc/R/bin/R CMD INSTALL DELocal StartedAt: 2023-10-15 15:20:25 -0400 (Sun, 15 Oct 2023) EndedAt: 2023-10-15 15:20:48 -0400 (Sun, 15 Oct 2023) EllapsedTime: 22.9 seconds RetCode: 0 Status: OK