Package: DELocal Version: 1.0.0 Command: /home/biocbuild/bbs-3.17-bioc/R/bin/R CMD check --install=check:DELocal.install-out.txt --library=/home/biocbuild/bbs-3.17-bioc/R/site-library --timings DELocal_1.0.0.tar.gz StartedAt: 2023-10-15 20:42:26 -0400 (Sun, 15 Oct 2023) EndedAt: 2023-10-15 20:45:10 -0400 (Sun, 15 Oct 2023) EllapsedTime: 164.7 seconds RetCode: 1 Status: ERROR CheckDir: DELocal.Rcheck Warnings: NA