Package: DELocal Version: 1.0.0 Command: /home/biocbuild/bbs-3.17-bioc/R/bin/R CMD build --keep-empty-dirs --no-resave-data DELocal StartedAt: 2023-10-15 16:33:26 -0400 (Sun, 15 Oct 2023) EndedAt: 2023-10-15 16:34:41 -0400 (Sun, 15 Oct 2023) EllapsedTime: 75.4 seconds RetCode: 0 Status: OK PackageFile: DELocal_1.0.0.tar.gz PackageFileSize: 2.317 MiB