Package: DELocal Version: 1.0.0 Command: /Library/Frameworks/R.framework/Resources/bin/R CMD INSTALL DELocal StartedAt: 2023-10-15 15:28:19 -0400 (Sun, 15 Oct 2023) EndedAt: 2023-10-15 15:29:34 -0400 (Sun, 15 Oct 2023) EllapsedTime: 75.0 seconds RetCode: 0 Status: OK