Package: DELocal Version: 1.0.0 Command: /Library/Frameworks/R.framework/Resources/bin/R CMD build --keep-empty-dirs --no-resave-data DELocal StartedAt: 2023-10-15 17:52:12 -0400 (Sun, 15 Oct 2023) EndedAt: 2023-10-15 17:55:19 -0400 (Sun, 15 Oct 2023) EllapsedTime: 186.1 seconds RetCode: 0 Status: OK PackageFile: DELocal_1.0.0.tar.gz PackageFileSize: 2.338 MiB