Package: DEGseq Version: 1.54.0 Command: F:\biocbuild\bbs-3.17-bioc\R\bin\R.exe CMD check --no-multiarch --install=check:DEGseq.install-out.txt --library=F:\biocbuild\bbs-3.17-bioc\R\library --no-vignettes --timings DEGseq_1.54.0.tar.gz StartedAt: 2023-10-16 01:19:50 -0400 (Mon, 16 Oct 2023) EndedAt: 2023-10-16 01:20:48 -0400 (Mon, 16 Oct 2023) EllapsedTime: 58.6 seconds RetCode: 0 Status: OK CheckDir: DEGseq.Rcheck Warnings: 0