Package: DEGseq Version: 1.54.0 Command: rm -rf DEGseq.buildbin-libdir && mkdir DEGseq.buildbin-libdir && F:\biocbuild\bbs-3.17-bioc\R\bin\R.exe CMD INSTALL --build --library=DEGseq.buildbin-libdir DEGseq_1.54.0.tar.gz StartedAt: 2023-10-16 08:40:51 -0400 (Mon, 16 Oct 2023) EndedAt: 2023-10-16 08:41:15 -0400 (Mon, 16 Oct 2023) EllapsedTime: 23.6 seconds RetCode: 0 Status: OK PackageFile: DEGseq_1.54.0.zip PackageFileSize: 2.384 MiB