Package: DEGseq Version: 1.54.0 Command: /home/biocbuild/bbs-3.17-bioc/R/bin/R CMD check --install=check:DEGseq.install-out.txt --library=/home/biocbuild/bbs-3.17-bioc/R/site-library --timings DEGseq_1.54.0.tar.gz StartedAt: 2023-10-15 20:41:11 -0400 (Sun, 15 Oct 2023) EndedAt: 2023-10-15 20:41:48 -0400 (Sun, 15 Oct 2023) EllapsedTime: 37.4 seconds RetCode: 0 Status: WARNINGS CheckDir: DEGseq.Rcheck Warnings: 1