Package: DEGseq Version: 1.54.0 Command: /home/biocbuild/bbs-3.17-bioc/R/bin/R CMD build --keep-empty-dirs --no-resave-data DEGseq StartedAt: 2023-10-15 16:32:49 -0400 (Sun, 15 Oct 2023) EndedAt: 2023-10-15 16:33:09 -0400 (Sun, 15 Oct 2023) EllapsedTime: 19.9 seconds RetCode: 0 Status: OK PackageFile: DEGseq_1.54.0.tar.gz PackageFileSize: 1.837 MiB