Package: DEGseq Version: 1.54.0 Command: /Library/Frameworks/R.framework/Resources/bin/R CMD check --install=check:DEGseq.install-out.txt --library=/Library/Frameworks/R.framework/Resources/library --no-vignettes --timings DEGseq_1.54.0.tar.gz StartedAt: 2023-10-16 00:45:08 -0400 (Mon, 16 Oct 2023) EndedAt: 2023-10-16 00:46:37 -0400 (Mon, 16 Oct 2023) EllapsedTime: 89.0 seconds RetCode: 0 Status: WARNINGS CheckDir: DEGseq.Rcheck Warnings: 1