Package: DEGreport Version: 1.36.0 Command: /Library/Frameworks/R.framework/Resources/bin/R CMD INSTALL DEGreport StartedAt: 2023-10-15 15:30:12 -0400 (Sun, 15 Oct 2023) EndedAt: 2023-10-15 15:31:47 -0400 (Sun, 15 Oct 2023) EllapsedTime: 94.6 seconds RetCode: 0 Status: OK