Package: DEGreport Version: 1.36.0 Command: rm -rf DEGreport.buildbin-libdir && mkdir DEGreport.buildbin-libdir && /Users/biocbuild/BBS/utils/build-universal.sh DEGreport_1.36.0.tar.gz /Library/Frameworks/R.framework/Resources/bin/R DEGreport.buildbin-libdir StartedAt: 2023-10-16 09:15:47 -0400 (Mon, 16 Oct 2023) EndedAt: 2023-10-16 09:17:40 -0400 (Mon, 16 Oct 2023) EllapsedTime: 112.5 seconds RetCode: 0 Status: OK PackageFile: DEGreport_1.36.0.tgz PackageFileSize: 2.975 MiB