Package: DEGraph Version: 1.52.0 Command: /home/biocbuild/bbs-3.17-bioc/R/bin/R CMD check --install=check:DEGraph.install-out.txt --library=/home/biocbuild/bbs-3.17-bioc/R/site-library --timings DEGraph_1.52.0.tar.gz StartedAt: 2023-10-15 20:40:35 -0400 (Sun, 15 Oct 2023) EndedAt: 2023-10-15 20:42:08 -0400 (Sun, 15 Oct 2023) EllapsedTime: 92.7 seconds RetCode: 0 Status: OK CheckDir: DEGraph.Rcheck Warnings: 0