Package: DEGraph Version: 1.52.0 Command: /home/biocbuild/bbs-3.17-bioc/R/bin/R CMD build --keep-empty-dirs --no-resave-data DEGraph StartedAt: 2023-10-15 16:32:40 -0400 (Sun, 15 Oct 2023) EndedAt: 2023-10-15 16:33:03 -0400 (Sun, 15 Oct 2023) EllapsedTime: 23.2 seconds RetCode: 0 Status: OK PackageFile: DEGraph_1.52.0.tar.gz PackageFileSize: 1.531 MiB