git_url: https://git.bioconductor.org/packages/DEGraph git_branch: RELEASE_3_17 git_last_commit: 3d2f86d git_last_commit_date: 2023-04-25 10:18:22 -0400 (Tue, 25 Apr 2023) Package: DEGraph Version: 1.52.0 Maintainer: Laurent Jacob MaintainerEmail: laurent.jacob at gmail.com