Package: DAMEfinder Version: 1.12.0 Command: F:\biocbuild\bbs-3.17-bioc\R\bin\R.exe CMD INSTALL DAMEfinder StartedAt: 2023-10-15 16:22:14 -0400 (Sun, 15 Oct 2023) EndedAt: 2023-10-15 16:22:45 -0400 (Sun, 15 Oct 2023) EllapsedTime: 31.6 seconds RetCode: 0 Status: OK