Package: DAMEfinder Version: 1.12.0 Command: chmod a+r DAMEfinder -R && F:\biocbuild\bbs-3.17-bioc\R\bin\R.exe CMD build --keep-empty-dirs --no-resave-data DAMEfinder StartedAt: 2023-10-15 18:33:22 -0400 (Sun, 15 Oct 2023) EndedAt: 2023-10-15 18:35:26 -0400 (Sun, 15 Oct 2023) EllapsedTime: 123.5 seconds RetCode: 0 Status: OK PackageFile: DAMEfinder_1.12.0.tar.gz PackageFileSize: 3.057 MiB