Package: DAMEfinder Version: 1.12.0 Command: /home/biocbuild/bbs-3.17-bioc/R/bin/R CMD build --keep-empty-dirs --no-resave-data DAMEfinder StartedAt: 2023-10-15 16:30:45 -0400 (Sun, 15 Oct 2023) EndedAt: 2023-10-15 16:32:48 -0400 (Sun, 15 Oct 2023) EllapsedTime: 123.0 seconds RetCode: 0 Status: OK PackageFile: DAMEfinder_1.12.0.tar.gz PackageFileSize: 4.614 MiB