Package: DAMEfinder Version: 1.12.0 Command: /Library/Frameworks/R.framework/Resources/bin/R CMD check --install=check:DAMEfinder.install-out.txt --library=/Library/Frameworks/R.framework/Resources/library --no-vignettes --timings DAMEfinder_1.12.0.tar.gz StartedAt: 2023-10-16 00:36:22 -0400 (Mon, 16 Oct 2023) EndedAt: 2023-10-16 00:49:32 -0400 (Mon, 16 Oct 2023) EllapsedTime: 789.4 seconds RetCode: 0 Status: OK CheckDir: DAMEfinder.Rcheck Warnings: 0