Package: DAMEfinder Version: 1.12.0 Command: /Library/Frameworks/R.framework/Resources/bin/R CMD build --keep-empty-dirs --no-resave-data DAMEfinder StartedAt: 2023-10-15 17:47:58 -0400 (Sun, 15 Oct 2023) EndedAt: 2023-10-15 17:53:06 -0400 (Sun, 15 Oct 2023) EllapsedTime: 308.1 seconds RetCode: 0 Status: OK PackageFile: DAMEfinder_1.12.0.tar.gz PackageFileSize: 4.64 MiB