Package: CytoPipeline Version: 1.0.2 Command: F:\biocbuild\bbs-3.17-bioc\R\bin\R.exe CMD INSTALL CytoPipeline StartedAt: 2023-10-15 16:26:55 -0400 (Sun, 15 Oct 2023) EndedAt: 2023-10-15 16:27:16 -0400 (Sun, 15 Oct 2023) EllapsedTime: 21.0 seconds RetCode: 0 Status: OK