Package: CytoPipeline Version: 1.0.2 Command: /home/biocbuild/bbs-3.17-bioc/R/bin/R CMD INSTALL CytoPipeline StartedAt: 2023-10-15 15:28:45 -0400 (Sun, 15 Oct 2023) EndedAt: 2023-10-15 15:29:01 -0400 (Sun, 15 Oct 2023) EllapsedTime: 15.2 seconds RetCode: 0 Status: OK