Package: CytoML Version: 2.12.0 Command: chmod a+r CytoML -R && F:\biocbuild\bbs-3.17-bioc\R\bin\R.exe CMD build --keep-empty-dirs --no-resave-data CytoML StartedAt: 2023-10-15 18:31:50 -0400 (Sun, 15 Oct 2023) EndedAt: 2023-10-15 18:34:21 -0400 (Sun, 15 Oct 2023) EllapsedTime: 151.6 seconds RetCode: 0 Status: OK PackageFile: CytoML_2.12.0.tar.gz PackageFileSize: 10.54 MiB