Package: CytoML Version: 2.12.0 Command: /Library/Frameworks/R.framework/Resources/bin/R CMD INSTALL CytoML StartedAt: 2023-10-15 15:32:05 -0400 (Sun, 15 Oct 2023) EndedAt: 2023-10-15 15:35:12 -0400 (Sun, 15 Oct 2023) EllapsedTime: 186.2 seconds RetCode: 0 Status: OK