Package: CytoML Version: 2.12.0 Command: /Library/Frameworks/R.framework/Resources/bin/R CMD build --keep-empty-dirs --no-resave-data CytoML StartedAt: 2023-10-15 17:47:25 -0400 (Sun, 15 Oct 2023) EndedAt: 2023-10-15 17:51:00 -0400 (Sun, 15 Oct 2023) EllapsedTime: 215.8 seconds RetCode: 0 Status: OK PackageFile: CytoML_2.12.0.tar.gz PackageFileSize: 7.961 MiB