Package: CytoML Version: 2.12.0 Command: rm -rf CytoML.buildbin-libdir && mkdir CytoML.buildbin-libdir && /Users/biocbuild/BBS/utils/build-universal.sh CytoML_2.12.0.tar.gz /Library/Frameworks/R.framework/Resources/bin/R CytoML.buildbin-libdir StartedAt: 2023-10-16 09:14:26 -0400 (Mon, 16 Oct 2023) EndedAt: 2023-10-16 09:18:27 -0400 (Mon, 16 Oct 2023) EllapsedTime: 240.6 seconds RetCode: 0 Status: OK PackageFile: CytoML_2.12.0.tgz PackageFileSize: 8.951 MiB