Package: CytoGLMM Version: 1.8.0 Command: /Library/Frameworks/R.framework/Resources/bin/R CMD build --keep-empty-dirs --no-resave-data CytoGLMM StartedAt: 2023-10-15 17:46:00 -0400 (Sun, 15 Oct 2023) EndedAt: 2023-10-15 17:49:52 -0400 (Sun, 15 Oct 2023) EllapsedTime: 232.1 seconds RetCode: 0 Status: OK PackageFile: CytoGLMM_1.8.0.tar.gz PackageFileSize: 337.1 KiB