Package: CytoGLMM Version: 1.8.0 Command: rm -rf CytoGLMM.buildbin-libdir && mkdir CytoGLMM.buildbin-libdir && /Users/biocbuild/BBS/utils/build-universal.sh CytoGLMM_1.8.0.tar.gz /Library/Frameworks/R.framework/Resources/bin/R CytoGLMM.buildbin-libdir StartedAt: 2023-10-16 09:14:18 -0400 (Mon, 16 Oct 2023) EndedAt: 2023-10-16 09:15:07 -0400 (Mon, 16 Oct 2023) EllapsedTime: 49.2 seconds RetCode: 0 Status: OK PackageFile: CytoGLMM_1.8.0.tgz PackageFileSize: 419 KiB