Package: CytoDx Version: 1.20.0 Command: F:\biocbuild\bbs-3.17-bioc\R\bin\R.exe CMD check --no-multiarch --install=check:CytoDx.install-out.txt --library=F:\biocbuild\bbs-3.17-bioc\R\library --no-vignettes --timings CytoDx_1.20.0.tar.gz StartedAt: 2023-10-16 01:10:39 -0400 (Mon, 16 Oct 2023) EndedAt: 2023-10-16 01:11:59 -0400 (Mon, 16 Oct 2023) EllapsedTime: 80.2 seconds RetCode: 0 Status: OK CheckDir: CytoDx.Rcheck Warnings: 0