Package: CytoDx Version: 1.20.0 Command: rm -rf CytoDx.buildbin-libdir && mkdir CytoDx.buildbin-libdir && F:\biocbuild\bbs-3.17-bioc\R\bin\R.exe CMD INSTALL --build --library=CytoDx.buildbin-libdir CytoDx_1.20.0.tar.gz StartedAt: 2023-10-16 08:39:33 -0400 (Mon, 16 Oct 2023) EndedAt: 2023-10-16 08:39:48 -0400 (Mon, 16 Oct 2023) EllapsedTime: 14.8 seconds RetCode: 0 Status: OK PackageFile: CytoDx_1.20.0.zip PackageFileSize: 562.9 KiB