Package: CytoDx Version: 1.20.0 Command: /Library/Frameworks/R.framework/Resources/bin/R CMD build --keep-empty-dirs --no-resave-data CytoDx StartedAt: 2023-10-15 17:45:12 -0400 (Sun, 15 Oct 2023) EndedAt: 2023-10-15 17:46:14 -0400 (Sun, 15 Oct 2023) EllapsedTime: 62.7 seconds RetCode: 0 Status: OK PackageFile: CytoDx_1.20.0.tar.gz PackageFileSize: 661.1 KiB