Package: CyTOFpower Version: 1.6.0 Command: F:\biocbuild\bbs-3.17-bioc\R\bin\R.exe CMD check --no-multiarch --install=check:CyTOFpower.install-out.txt --library=F:\biocbuild\bbs-3.17-bioc\R\library --no-vignettes --timings CyTOFpower_1.6.0.tar.gz StartedAt: 2023-10-16 01:10:40 -0400 (Mon, 16 Oct 2023) EndedAt: 2023-10-16 01:11:50 -0400 (Mon, 16 Oct 2023) EllapsedTime: 69.2 seconds RetCode: 0 Status: OK CheckDir: CyTOFpower.Rcheck Warnings: 0