Package: CyTOFpower Version: 1.6.0 Command: chmod a+r CyTOFpower -R && F:\biocbuild\bbs-3.17-bioc\R\bin\R.exe CMD build --keep-empty-dirs --no-resave-data CyTOFpower StartedAt: 2023-10-15 18:29:59 -0400 (Sun, 15 Oct 2023) EndedAt: 2023-10-15 18:30:12 -0400 (Sun, 15 Oct 2023) EllapsedTime: 13.0 seconds RetCode: 0 Status: OK PackageFile: CyTOFpower_1.6.0.tar.gz PackageFileSize: 312.1 KiB