Package: CyTOFpower Version: 1.6.0 Command: /home/biocbuild/bbs-3.17-bioc/R/bin/R CMD build --keep-empty-dirs --no-resave-data CyTOFpower StartedAt: 2023-10-15 16:29:54 -0400 (Sun, 15 Oct 2023) EndedAt: 2023-10-15 16:30:02 -0400 (Sun, 15 Oct 2023) EllapsedTime: 7.3 seconds RetCode: 0 Status: OK PackageFile: CyTOFpower_1.6.0.tar.gz PackageFileSize: 312.2 KiB