Package: CyTOFpower Version: 1.6.0 Command: /Library/Frameworks/R.framework/Resources/bin/R CMD check --install=check:CyTOFpower.install-out.txt --library=/Library/Frameworks/R.framework/Resources/library --no-vignettes --timings CyTOFpower_1.6.0.tar.gz StartedAt: 2023-10-16 00:32:14 -0400 (Mon, 16 Oct 2023) EndedAt: 2023-10-16 00:34:54 -0400 (Mon, 16 Oct 2023) EllapsedTime: 160.3 seconds RetCode: 0 Status: OK CheckDir: CyTOFpower.Rcheck Warnings: 0