Package: CyTOFpower Version: 1.6.0 Command: /Library/Frameworks/R.framework/Resources/bin/R CMD build --keep-empty-dirs --no-resave-data CyTOFpower StartedAt: 2023-10-15 17:45:35 -0400 (Sun, 15 Oct 2023) EndedAt: 2023-10-15 17:45:55 -0400 (Sun, 15 Oct 2023) EllapsedTime: 20.5 seconds RetCode: 0 Status: OK PackageFile: CyTOFpower_1.6.0.tar.gz PackageFileSize: 312.1 KiB