Package: CrispRVariants Version: 1.28.0 Command: chmod a+r CrispRVariants -R && F:\biocbuild\bbs-3.17-bioc\R\bin\R.exe CMD build --keep-empty-dirs --no-resave-data CrispRVariants StartedAt: 2023-10-15 18:25:30 -0400 (Sun, 15 Oct 2023) EndedAt: 2023-10-15 18:28:00 -0400 (Sun, 15 Oct 2023) EllapsedTime: 149.7 seconds RetCode: 0 Status: OK PackageFile: CrispRVariants_1.28.0.tar.gz PackageFileSize: 1.102 MiB