Package: CrispRVariants Version: 1.28.0 Command: /home/biocbuild/bbs-3.17-bioc/R/bin/R CMD check --install=check:CrispRVariants.install-out.txt --library=/home/biocbuild/bbs-3.17-bioc/R/site-library --timings CrispRVariants_1.28.0.tar.gz StartedAt: 2023-10-15 20:27:33 -0400 (Sun, 15 Oct 2023) EndedAt: 2023-10-15 20:33:25 -0400 (Sun, 15 Oct 2023) EllapsedTime: 352.0 seconds RetCode: 0 Status: WARNINGS CheckDir: CrispRVariants.Rcheck Warnings: 2