Package: CoverageView Version: 1.38.0 Command: /Library/Frameworks/R.framework/Resources/bin/R CMD INSTALL CoverageView StartedAt: 2023-10-15 15:51:56 -0400 (Sun, 15 Oct 2023) EndedAt: 2023-10-15 15:53:31 -0400 (Sun, 15 Oct 2023) EllapsedTime: 95.4 seconds RetCode: 0 Status: OK